BEGIN:VCALENDAR
VERSION:2.0
PRODID:DPCALENDAR
CALSCALE:GREGORIAN
X-WR-TIMEZONE:UTC
BEGIN:VEVENT
DTSTART;VALUE=DATE:20180131
DTEND;VALUE=DATE:20180201
UID:413014beface29b4dd4e288fabe9f058
SUMMARY:Teacher Only Day
DTSTAMP:20180124T060919Z
DESCRIPTION:
X-ALT-DESC;FMTTYPE=text/html:
X-ACCESS:1
X-MODIFIED:20180124T060919Z
X-HITS:0
X-URL:https://www.google.com/calendar/event?eid=MHM0OWlhdDd1bWZtbXA0MmUwazFnM2dkZnMgdmF1eGhhbGwuc2Nob29sLm56X3FkNDlvNXJlMGg1YzBzb2UwMmNxZjI4bHJnQGc
X-COLOR:
END:VEVENT
END:VCALENDAR