BEGIN:VCALENDAR
VERSION:2.0
PRODID:DPCALENDAR
CALSCALE:GREGORIAN
X-WR-TIMEZONE:UTC
BEGIN:VEVENT
DTSTART;VALUE=DATE:20180130
DTEND;VALUE=DATE:20180131
UID:37fd3584a6b743b56a2cce61ce072af4
SUMMARY:Teacher only day
DTSTAMP:20180124T060915Z
DESCRIPTION:
X-ALT-DESC;FMTTYPE=text/html:
X-ACCESS:1
X-MODIFIED:20180124T060915Z
X-HITS:0
X-URL:https://www.google.com/calendar/event?eid=c3A1MjNnMHE5ZGVhNGt1MjFxczhza2U3c3MgdmF1eGhhbGwuc2Nob29sLm56X3FkNDlvNXJlMGg1YzBzb2UwMmNxZjI4bHJnQGc
X-COLOR:
END:VEVENT
END:VCALENDAR